BEGIN:VCALENDAR
VERSION:2.0
PRODID:-//Joseph&#039;s Coat - ECPv6.15.20//NONSGML v1.0//EN
CALSCALE:GREGORIAN
METHOD:PUBLISH
X-ORIGINAL-URL:http://www.josephscoatmn.org
X-WR-CALDESC:Events for Joseph&#039;s Coat
REFRESH-INTERVAL;VALUE=DURATION:PT1H
X-Robots-Tag:noindex
X-PUBLISHED-TTL:PT1H
BEGIN:VTIMEZONE
TZID:America/Chicago
BEGIN:DAYLIGHT
TZOFFSETFROM:-0600
TZOFFSETTO:-0500
TZNAME:CDT
DTSTART:20230312T080000
END:DAYLIGHT
BEGIN:STANDARD
TZOFFSETFROM:-0500
TZOFFSETTO:-0600
TZNAME:CST
DTSTART:20231105T070000
END:STANDARD
BEGIN:DAYLIGHT
TZOFFSETFROM:-0600
TZOFFSETTO:-0500
TZNAME:CDT
DTSTART:20240310T080000
END:DAYLIGHT
BEGIN:STANDARD
TZOFFSETFROM:-0500
TZOFFSETTO:-0600
TZNAME:CST
DTSTART:20241103T070000
END:STANDARD
BEGIN:DAYLIGHT
TZOFFSETFROM:-0600
TZOFFSETTO:-0500
TZNAME:CDT
DTSTART:20250309T080000
END:DAYLIGHT
BEGIN:STANDARD
TZOFFSETFROM:-0500
TZOFFSETTO:-0600
TZNAME:CST
DTSTART:20251102T070000
END:STANDARD
BEGIN:DAYLIGHT
TZOFFSETFROM:-0600
TZOFFSETTO:-0500
TZNAME:CDT
DTSTART:20260308T080000
END:DAYLIGHT
BEGIN:STANDARD
TZOFFSETFROM:-0500
TZOFFSETTO:-0600
TZNAME:CST
DTSTART:20261101T070000
END:STANDARD
BEGIN:DAYLIGHT
TZOFFSETFROM:-0600
TZOFFSETTO:-0500
TZNAME:CDT
DTSTART:20270314T080000
END:DAYLIGHT
BEGIN:STANDARD
TZOFFSETFROM:-0500
TZOFFSETTO:-0600
TZNAME:CST
DTSTART:20271107T070000
END:STANDARD
END:VTIMEZONE
BEGIN:VTIMEZONE
TZID:UTC
BEGIN:STANDARD
TZOFFSETFROM:+0000
TZOFFSETTO:+0000
TZNAME:UTC
DTSTART:20220101T000000
END:STANDARD
END:VTIMEZONE
BEGIN:VEVENT
DTSTART;VALUE=DATE:20260101
DTEND;VALUE=DATE:20260103
DTSTAMP:20260422T114302
CREATED:20250102T232235Z
LAST-MODIFIED:20250102T232235Z
UID:32041-1767225600-1767398399@www.josephscoatmn.org
SUMMARY:January Closed Days
DESCRIPTION:
URL:http://www.josephscoatmn.org/calendar/january-closed-days-2/
END:VEVENT
BEGIN:VEVENT
DTSTART;VALUE=DATE:20251229
DTEND;VALUE=DATE:20260101
DTSTAMP:20260422T114302
CREATED:20250102T232207Z
LAST-MODIFIED:20250102T232207Z
UID:32039-1766966400-1767225599@www.josephscoatmn.org
SUMMARY:December Closed Days
DESCRIPTION:
URL:http://www.josephscoatmn.org/calendar/december-closed-days-3/
END:VEVENT
BEGIN:VEVENT
DTSTART;VALUE=DATE:20251222
DTEND;VALUE=DATE:20251228
DTSTAMP:20260422T114302
CREATED:20250102T232006Z
LAST-MODIFIED:20251126T192505Z
UID:32037-1766361600-1766879999@www.josephscoatmn.org
SUMMARY:December Closed Days
DESCRIPTION:
URL:http://www.josephscoatmn.org/calendar/december-closed-days/
END:VEVENT
BEGIN:VEVENT
DTSTART;VALUE=DATE:20251124
DTEND;VALUE=DATE:20251129
DTSTAMP:20260422T114302
CREATED:20250102T231930Z
LAST-MODIFIED:20250102T231930Z
UID:32035-1763942400-1764374399@www.josephscoatmn.org
SUMMARY:November Closed Days
DESCRIPTION:
URL:http://www.josephscoatmn.org/calendar/november-closed-days-2/
END:VEVENT
BEGIN:VEVENT
DTSTART;VALUE=DATE:20251006
DTEND;VALUE=DATE:20251011
DTSTAMP:20260422T114302
CREATED:20250102T231856Z
LAST-MODIFIED:20250102T231856Z
UID:32033-1759708800-1760140799@www.josephscoatmn.org
SUMMARY:October Closed Days
DESCRIPTION:
URL:http://www.josephscoatmn.org/calendar/october-closed-days-2/
END:VEVENT
BEGIN:VEVENT
DTSTART;VALUE=DATE:20250901
DTEND;VALUE=DATE:20250906
DTSTAMP:20260422T114302
CREATED:20250102T231832Z
LAST-MODIFIED:20250102T231832Z
UID:32031-1756684800-1757116799@www.josephscoatmn.org
SUMMARY:September Closed Days
DESCRIPTION:
URL:http://www.josephscoatmn.org/calendar/september-closed-days-2/
END:VEVENT
BEGIN:VEVENT
DTSTART;VALUE=DATE:20250804
DTEND;VALUE=DATE:20250809
DTSTAMP:20260422T114302
CREATED:20250102T231810Z
LAST-MODIFIED:20250102T231810Z
UID:32029-1754265600-1754697599@www.josephscoatmn.org
SUMMARY:August Closed Days
DESCRIPTION:
URL:http://www.josephscoatmn.org/calendar/august-closed-days-2/
END:VEVENT
BEGIN:VEVENT
DTSTART;VALUE=DATE:20250707
DTEND;VALUE=DATE:20250712
DTSTAMP:20260422T114302
CREATED:20250102T231745Z
LAST-MODIFIED:20250102T231745Z
UID:32027-1751846400-1752278399@www.josephscoatmn.org
SUMMARY:July Closed Days
DESCRIPTION:
URL:http://www.josephscoatmn.org/calendar/july-closed-days-2/
END:VEVENT
BEGIN:VEVENT
DTSTART;VALUE=DATE:20250602
DTEND;VALUE=DATE:20250607
DTSTAMP:20260422T114302
CREATED:20250102T231644Z
LAST-MODIFIED:20250102T231644Z
UID:32025-1748822400-1749254399@www.josephscoatmn.org
SUMMARY:June Closed Days
DESCRIPTION:
URL:http://www.josephscoatmn.org/calendar/june-closed-days-2/
END:VEVENT
BEGIN:VEVENT
DTSTART;VALUE=DATE:20250526
DTEND;VALUE=DATE:20250527
DTSTAMP:20260422T114302
CREATED:20250102T231550Z
LAST-MODIFIED:20250102T231602Z
UID:32023-1748217600-1748303999@www.josephscoatmn.org
SUMMARY:Closed for the Holiday
DESCRIPTION:
URL:http://www.josephscoatmn.org/calendar/closed-for-the-holiday/
END:VEVENT
BEGIN:VEVENT
DTSTART;VALUE=DATE:20250505
DTEND;VALUE=DATE:20250510
DTSTAMP:20260422T114302
CREATED:20250102T231529Z
LAST-MODIFIED:20250102T231529Z
UID:32021-1746403200-1746835199@www.josephscoatmn.org
SUMMARY:May Closed Days
DESCRIPTION:
URL:http://www.josephscoatmn.org/calendar/may-closed-days-3/
END:VEVENT
BEGIN:VEVENT
DTSTART;VALUE=DATE:20250407
DTEND;VALUE=DATE:20250412
DTSTAMP:20260422T114302
CREATED:20250102T231451Z
LAST-MODIFIED:20250102T231451Z
UID:32019-1743984000-1744415999@www.josephscoatmn.org
SUMMARY:April Closed Days
DESCRIPTION:
URL:http://www.josephscoatmn.org/calendar/april-closed-days-2/
END:VEVENT
BEGIN:VEVENT
DTSTART;VALUE=DATE:20250303
DTEND;VALUE=DATE:20250308
DTSTAMP:20260422T114302
CREATED:20250102T231400Z
LAST-MODIFIED:20250102T231400Z
UID:32017-1740960000-1741391999@www.josephscoatmn.org
SUMMARY:March Closed Days
DESCRIPTION:
URL:http://www.josephscoatmn.org/calendar/march-closed-days-2/
END:VEVENT
BEGIN:VEVENT
DTSTART;VALUE=DATE:20250203
DTEND;VALUE=DATE:20250208
DTSTAMP:20260422T114302
CREATED:20250102T231208Z
LAST-MODIFIED:20250102T231208Z
UID:32015-1738540800-1738972799@www.josephscoatmn.org
SUMMARY:February Closed Days
DESCRIPTION:
URL:http://www.josephscoatmn.org/calendar/february-closed-days-2/
END:VEVENT
BEGIN:VEVENT
DTSTART;VALUE=DATE:20250101
DTEND;VALUE=DATE:20250104
DTSTAMP:20260422T114302
CREATED:20231130T175725Z
LAST-MODIFIED:20231130T175725Z
UID:31436-1735689600-1735948799@www.josephscoatmn.org
SUMMARY:January Closed Schedule 2025
DESCRIPTION:Please respect our staff’s need for time to handle the business operations of Joseph’s Coat. No donations will be accepted during closed weeks. \nThank you for your cooperation!
URL:http://www.josephscoatmn.org/calendar/january-closed-schedule-2025/
END:VEVENT
BEGIN:VEVENT
DTSTART;VALUE=DATE:20241230
DTEND;VALUE=DATE:20250101
DTSTAMP:20260422T114302
CREATED:20231130T175955Z
LAST-MODIFIED:20231130T175955Z
UID:31438-1735516800-1735689599@www.josephscoatmn.org
SUMMARY:December Closed Schedule
DESCRIPTION:Please respect our staff’s need for time to handle the business operations of Joseph’s Coat. No donations will be accepted during closed weeks. \nThank you for your cooperation!
URL:http://www.josephscoatmn.org/calendar/december-closed-schedule-2/
END:VEVENT
BEGIN:VEVENT
DTSTART;VALUE=DATE:20241223
DTEND;VALUE=DATE:20241228
DTSTAMP:20260422T114302
CREATED:20231130T175647Z
LAST-MODIFIED:20231130T175913Z
UID:31434-1734912000-1735343999@www.josephscoatmn.org
SUMMARY:December Closed Schedule
DESCRIPTION:Please respect our staff’s need for time to handle the business operations of Joseph’s Coat. No donations will be accepted during closed weeks. \nThank you for your cooperation!
URL:http://www.josephscoatmn.org/calendar/december-closed-schedule/
END:VEVENT
BEGIN:VEVENT
DTSTART;VALUE=DATE:20241125
DTEND;VALUE=DATE:20241130
DTSTAMP:20260422T114302
CREATED:20231130T175547Z
LAST-MODIFIED:20231130T175547Z
UID:31432-1732492800-1732924799@www.josephscoatmn.org
SUMMARY:November Closed Schedule
DESCRIPTION:Please respect our staff’s need for time to handle the business operations of Joseph’s Coat. No donations will be accepted during closed weeks. \nThank you for your cooperation!
URL:http://www.josephscoatmn.org/calendar/november-closed-schedule/
END:VEVENT
BEGIN:VEVENT
DTSTART;VALUE=DATE:20241007
DTEND;VALUE=DATE:20241012
DTSTAMP:20260422T114302
CREATED:20231130T175455Z
LAST-MODIFIED:20231130T175455Z
UID:31430-1728259200-1728691199@www.josephscoatmn.org
SUMMARY:October Closed Schedule
DESCRIPTION:Please respect our staff’s need for time to handle the business operations of Joseph’s Coat. No donations will be accepted during closed weeks. \nThank you for your cooperation!
URL:http://www.josephscoatmn.org/calendar/october-closed-schedule/
END:VEVENT
BEGIN:VEVENT
DTSTART;VALUE=DATE:20240902
DTEND;VALUE=DATE:20240907
DTSTAMP:20260422T114302
CREATED:20231130T175420Z
LAST-MODIFIED:20231130T175420Z
UID:31428-1725235200-1725667199@www.josephscoatmn.org
SUMMARY:September Closed Schedule
DESCRIPTION:Please respect our staff’s need for time to handle the business operations of Joseph’s Coat. No donations will be accepted during closed weeks. \nThank you for your cooperation!
URL:http://www.josephscoatmn.org/calendar/september-closed-schedule/
END:VEVENT
BEGIN:VEVENT
DTSTART;VALUE=DATE:20240805
DTEND;VALUE=DATE:20240810
DTSTAMP:20260422T114302
CREATED:20231130T175347Z
LAST-MODIFIED:20231130T175347Z
UID:31426-1722816000-1723247999@www.josephscoatmn.org
SUMMARY:August Closed Schedule
DESCRIPTION:Please respect our staff’s need for time to handle the business operations of Joseph’s Coat. No donations will be accepted during closed weeks. \nThank you for your cooperation!
URL:http://www.josephscoatmn.org/calendar/august-closed-schedule/
END:VEVENT
BEGIN:VEVENT
DTSTART;VALUE=DATE:20240701
DTEND;VALUE=DATE:20240706
DTSTAMP:20260422T114302
CREATED:20231130T175306Z
LAST-MODIFIED:20231130T175306Z
UID:31424-1719792000-1720223999@www.josephscoatmn.org
SUMMARY:July Closed Dates
DESCRIPTION:Please respect our staff’s need for time to handle the business operations of Joseph’s Coat. No donations will be accepted during closed weeks. \nThank you for your cooperation!
URL:http://www.josephscoatmn.org/calendar/july-closed-dates/
END:VEVENT
BEGIN:VEVENT
DTSTART;VALUE=DATE:20240603
DTEND;VALUE=DATE:20240608
DTSTAMP:20260422T114302
CREATED:20231130T175236Z
LAST-MODIFIED:20231130T175236Z
UID:31422-1717372800-1717804799@www.josephscoatmn.org
SUMMARY:June Closed Dates
DESCRIPTION:Please respect our staff’s need for time to handle the business operations of Joseph’s Coat. No donations will be accepted during closed weeks. \nThank you for your cooperation!
URL:http://www.josephscoatmn.org/calendar/june-closed-dates/
END:VEVENT
BEGIN:VEVENT
DTSTART;VALUE=DATE:20240527
DTEND;VALUE=DATE:20240528
DTSTAMP:20260422T114302
CREATED:20231130T175204Z
LAST-MODIFIED:20231130T175204Z
UID:31420-1716768000-1716854399@www.josephscoatmn.org
SUMMARY:May Closed Date
DESCRIPTION:Please respect our staff’s need for time to handle the business operations of Joseph’s Coat. No donations will be accepted during closed weeks. \nThank you for your cooperation!
URL:http://www.josephscoatmn.org/calendar/may-closed-date/
END:VEVENT
BEGIN:VEVENT
DTSTART;VALUE=DATE:20240506
DTEND;VALUE=DATE:20240511
DTSTAMP:20260422T114302
CREATED:20231130T175131Z
LAST-MODIFIED:20231130T175131Z
UID:31418-1714953600-1715385599@www.josephscoatmn.org
SUMMARY:May Closed Dates
DESCRIPTION:Please respect our staff’s need for time to handle the business operations of Joseph’s Coat. No donations will be accepted during closed weeks. \nThank you for your cooperation!
URL:http://www.josephscoatmn.org/calendar/may-closed-dates/
END:VEVENT
BEGIN:VEVENT
DTSTART;VALUE=DATE:20240401
DTEND;VALUE=DATE:20240406
DTSTAMP:20260422T114302
CREATED:20231130T175033Z
LAST-MODIFIED:20231130T175033Z
UID:31416-1711929600-1712361599@www.josephscoatmn.org
SUMMARY:April Closed Dates
DESCRIPTION:Please respect our staff’s need for time to handle the business operations of Joseph’s Coat. No donations will be accepted during closed weeks. \nThank you for your cooperation!
URL:http://www.josephscoatmn.org/calendar/april-closed-dates/
END:VEVENT
BEGIN:VEVENT
DTSTART;VALUE=DATE:20240304
DTEND;VALUE=DATE:20240309
DTSTAMP:20260422T114302
CREATED:20231130T174900Z
LAST-MODIFIED:20231130T174946Z
UID:31413-1709510400-1709942399@www.josephscoatmn.org
SUMMARY:March Closed Dates
DESCRIPTION:Please respect our staff’s need for time to handle the business operations of Joseph’s Coat. No donations will be accepted during closed weeks. \nThank you for your cooperation!
URL:http://www.josephscoatmn.org/calendar/march-closed-schedule/
END:VEVENT
BEGIN:VEVENT
DTSTART;VALUE=DATE:20240205
DTEND;VALUE=DATE:20240210
DTSTAMP:20260422T114302
CREATED:20231130T174728Z
LAST-MODIFIED:20231130T174728Z
UID:31411-1707091200-1707523199@www.josephscoatmn.org
SUMMARY:February Closed Dates
DESCRIPTION:Please respect our staff’s need for time to handle the business operations of Joseph’s Coat. No donations will be accepted during closed weeks. \nThank you for your cooperation!
URL:http://www.josephscoatmn.org/calendar/february-closed-dates/
END:VEVENT
BEGIN:VEVENT
DTSTART;VALUE=DATE:20240101
DTEND;VALUE=DATE:20240103
DTSTAMP:20260422T114302
CREATED:20231130T172355Z
LAST-MODIFIED:20231130T174526Z
UID:31403-1704067200-1704239999@www.josephscoatmn.org
SUMMARY:January Closed Dates
DESCRIPTION:Please respect our staff’s need for time to handle the business operations of Joseph’s Coat. No donations will be accepted during closed days. \nThank you for your cooperation!
URL:http://www.josephscoatmn.org/calendar/january-closed-dates/
END:VEVENT
BEGIN:VEVENT
DTSTART;VALUE=DATE:20231218
DTEND;VALUE=DATE:20231230
DTSTAMP:20260422T114302
CREATED:20190112T001141Z
LAST-MODIFIED:20230104T211132Z
UID:28539-1702857600-1703894399@www.josephscoatmn.org
SUMMARY:December Closed Days
DESCRIPTION:Please respect our staff’s need for time to handle the business operations of Joseph’s Coat. No donations will be accepted during closed weeks. \nThank you for your cooperation!
URL:http://www.josephscoatmn.org/calendar/december-closed-days-2/
END:VEVENT
END:VCALENDAR